BEGIN:VCALENDAR
VERSION:2.0
PRODID:-//Amnesty International USA - ECPv5.6.0//NONSGML v1.0//EN
CALSCALE:GREGORIAN
METHOD:PUBLISH
X-WR-CALNAME:Amnesty International USA
X-ORIGINAL-URL:https://www.amnestyusa.org
X-WR-CALDESC:Events for Amnesty International USA
BEGIN:VTIMEZONE
TZID:America/New_York
BEGIN:DAYLIGHT
TZOFFSETFROM:-0500
TZOFFSETTO:-0400
TZNAME:EDT
DTSTART:20210314T070000
END:DAYLIGHT
BEGIN:STANDARD
TZOFFSETFROM:-0400
TZOFFSETTO:-0500
TZNAME:EST
DTSTART:20211107T060000
END:STANDARD
TZID:America/Chicago
BEGIN:DAYLIGHT
TZOFFSETFROM:-0600
TZOFFSETTO:-0500
TZNAME:CDT
DTSTART:20210314T080000
END:DAYLIGHT
BEGIN:STANDARD
TZOFFSETFROM:-0500
TZOFFSETTO:-0600
TZNAME:CST
DTSTART:20211107T070000
END:STANDARD
TZID:America/Los_Angeles
BEGIN:DAYLIGHT
TZOFFSETFROM:-0800
TZOFFSETTO:-0700
TZNAME:PDT
DTSTART:20210314T100000
END:DAYLIGHT
BEGIN:STANDARD
TZOFFSETFROM:-0700
TZOFFSETTO:-0800
TZNAME:PST
DTSTART:20211107T090000
END:STANDARD
END:VTIMEZONE
BEGIN:VEVENT
DTSTART;TZID=America/New_York:20210817T193000
DTEND;TZID=America/New_York:20210817T213000
DTSTAMP:20211013T170446
CREATED:20210204T164614Z
LAST-MODIFIED:20210204T183150Z
UID:68002-1629228600-1629235800@www.amnestyusa.org
SUMMARY:Local Group 73 (Ithaca\, NY) Monthly Meeting
DESCRIPTION:Local Group 73 (Ithaca\, NY) meets at 7:30pm ET on the third Tuesday of every month. \nWe write letters\, plan actions and events\, and discuss resolutions for the AGM. \nEmail Wayles Browne at ewb2@cornell.edu to get meeting details and a Zoom link.
URL:https://www.amnestyusa.org/event/local-group-73-ithaca-ny-monthly-meeting/2021-08-17/
CATEGORIES:Meeting
ORGANIZER;CN="Wayles%20Browne":MAILTO:ewb2@cornell.edu
END:VEVENT
BEGIN:VEVENT
DTSTART;TZID=America/New_York:20210825T203000
DTEND;TZID=America/New_York:20210825T213000
DTSTAMP:20211013T170446
CREATED:20210518T233453Z
LAST-MODIFIED:20210819T204847Z
UID:70989-1629923400-1629927000@www.amnestyusa.org
SUMMARY:Monthly Membership Call
DESCRIPTION:Each month\, staff from Amnesty International’s Grassroots Leadership and Engagement Unit (GLE) coordinate a Monthly Membership Call. \nThese calls are an opportunity for all Amnesty members to learn about our current priority campaigns\, dialogue with other members and staff\, find out what’s happening at the national and local levels\, and much more! These monthly calls are a space for you – as Amnesty members and member leaders – to communicate\, ask questions and share knowledge with other members\, staff and groups. \nMonthly membership calls are generally held on the last Wednesday of the month and are open to all Amnesty members. Join this call to learn more about Amnesty’s priority actions and activism this month! \n 
URL:https://www.amnestyusa.org/event/monthly-membership-calls-2021-06-30/2021-08-25/
END:VEVENT
BEGIN:VEVENT
DTSTART;TZID=America/Chicago:20210828T113000
DTEND;TZID=America/Chicago:20210828T133000
DTSTAMP:20211013T170446
CREATED:20210818T171931Z
LAST-MODIFIED:20210818T171931Z
UID:73012-1630150200-1630157400@www.amnestyusa.org
SUMMARY:Politics and the Death Penalty
DESCRIPTION:Saturday August 28\, 2021 \n11:30 am – 1:30 pm CDT \nRegister here! \nThis webinar\, “Politics and the Death Penalty\,” will have 7 elected officials\, representing both major parties\, speaking about their reasons for opposing the death penalty as a public policy issue. They will speak about their individual journeys in reaching their decisions\, and how their support for ending the death penalty has impacted their political careers. \nRegister in advance.
URL:https://www.amnestyusa.org/event/politics-and-the-death-penalty/
LOCATION:Virtual Event
CATEGORIES:Training/Workshop
ATTACH;FMTTYPE=image/jpeg:/wp-content/uploads/2021/08/dPflyer2.jpg
END:VEVENT
BEGIN:VEVENT
DTSTART;TZID=America/Los_Angeles:20210829T110000
DTEND;TZID=America/Los_Angeles:20210829T123000
DTSTAMP:20211013T170446
CREATED:20210813T025143Z
LAST-MODIFIED:20210813T025449Z
UID:72929-1630234800-1630240200@www.amnestyusa.org
SUMMARY:A Fireside Chat with AmnestyLA and UNHCR's Moh'd Al Taher
DESCRIPTION:Join AmnestyLA for a special conversation with a wonderful guest speaker from the United Nations High Commissioner for Refugees (UNHCR) on Sunday\, August 29\, 2021 at 11am PT. The United Nations High Commissioner for Refugees (UNHCR) is a UN agency that works to protect the rights of refugees. \nPlease join AmnestyLA for a fireside chat\, as we speak with Moh’d Al-Taher\, Associate External Relation Officer Mafraq Sub Office – Zaatari Camp. In this conversation\, we hope to learn more about the world refugee crisis\, the work of the UNHCR\, and to spotlight the Zaatari Camp\, one of the largest Syrian refugee settlements in the world. \nREGISTER ON ZOOM:\nWhen: Aug 29\, 2021 11:00 AM Pacific Time (US and Canada)\nTopic: A Fireside Chat with AmnestyLA and UNHCR’s Moh’d Al Taher \nRegister in advance for this webinar:\nhttps://us02web.zoom.us/webinar/register/WN_6gurMDblQk-ZA1Y71GRU4w
URL:https://www.amnestyusa.org/event/a-fireside-chat-with-amnestyla-and-unhcrs-mohd-al-taher/
ATTACH;FMTTYPE=image/png:/wp-content/uploads/2021/08/Refugees-Welcome.png
END:VEVENT
END:VCALENDAR