BEGIN:VCALENDAR
VERSION:2.0
PRODID:-//Amnesty International USA - ECPv5.6.0//NONSGML v1.0//EN
CALSCALE:GREGORIAN
METHOD:PUBLISH
X-WR-CALNAME:Amnesty International USA
X-ORIGINAL-URL:https://www.amnestyusa.org
X-WR-CALDESC:Events for Amnesty International USA
BEGIN:VTIMEZONE
TZID:America/New_York
BEGIN:DAYLIGHT
TZOFFSETFROM:-0500
TZOFFSETTO:-0400
TZNAME:EDT
DTSTART:20210314T070000
END:DAYLIGHT
BEGIN:STANDARD
TZOFFSETFROM:-0400
TZOFFSETTO:-0500
TZNAME:EST
DTSTART:20211107T060000
END:STANDARD
BEGIN:DAYLIGHT
TZOFFSETFROM:-0500
TZOFFSETTO:-0400
TZNAME:EDT
DTSTART:20220313T070000
END:DAYLIGHT
BEGIN:STANDARD
TZOFFSETFROM:-0400
TZOFFSETTO:-0500
TZNAME:EST
DTSTART:20221106T060000
END:STANDARD
END:VTIMEZONE
BEGIN:VEVENT
DTSTART;TZID=America/New_York:20211015T090000
DTEND;TZID=America/New_York:20211015T150000
DTSTAMP:20211013T104016
CREATED:20211007T201311Z
LAST-MODIFIED:20211007T201311Z
UID:74149-1634288400-1634310000@www.amnestyusa.org
SUMMARY:The Death Penalty in America: The Case Against Death
DESCRIPTION:Join Florida activists October 15th from 9am-3pm ET a virtual symposium on the death penalty. This one-day\, virtual event puts the practice of State executions on trial. Expert witnesses will make the case against this 4000-year-old “ultimate retribution”. ”The Case Against Death” will feature nationally recognized advocates and scholars as well as those who have lived through the experience of being innocent but on “death row”. This seminar will address the legal challenges\, the equity issues\, as well as the social\, moral\, and financial costs. If you think you know where you stand on the “Death Penalty”\, you won’t want to miss this. \nRegister here: https://www.law.nova.edu/alumni/2021-deathpenalty-symposium.html
URL:https://www.amnestyusa.org/event/the-death-penalty-in-america-the-case-against-death/
END:VEVENT
BEGIN:VEVENT
DTSTART;TZID=America/New_York:20211019T193000
DTEND;TZID=America/New_York:20211019T213000
DTSTAMP:20211013T104016
CREATED:20210204T164614Z
LAST-MODIFIED:20210204T183152Z
UID:68004-1634671800-1634679000@www.amnestyusa.org
SUMMARY:Local Group 73 (Ithaca\, NY) Monthly Meeting
DESCRIPTION:Local Group 73 (Ithaca\, NY) meets at 7:30pm ET on the third Tuesday of every month. \nWe write letters\, plan actions and events\, and discuss resolutions for the AGM. \nEmail Wayles Browne at ewb2@cornell.edu to get meeting details and a Zoom link.
URL:https://www.amnestyusa.org/event/local-group-73-ithaca-ny-monthly-meeting/2021-10-19/
CATEGORIES:Meeting
ORGANIZER;CN="Wayles%20Browne":MAILTO:ewb2@cornell.edu
END:VEVENT
BEGIN:VEVENT
DTSTART;VALUE=DATE:20211021
DTEND;VALUE=DATE:20211101
DTSTAMP:20211013T104016
CREATED:20211005T155947Z
LAST-MODIFIED:20211005T160033Z
UID:74004-1634774400-1635724799@www.amnestyusa.org
SUMMARY:United Nations Association Film Festival
DESCRIPTION:Amnesty San Francisco Local Group 30 is partnering with United Nations Association for their 24th film festival from October 21 – 31\, 2021. \nThe United Nations Association Film Festival is one of the oldest solely documentary film festivals in the US. This year’s festival will feature 60 films on the theme MOVING FORWARD hosted at Stanford\, Palo Alto\, and East Palo Alto. They will be following strict COVID-19 protocols for everyone’s safety and health. \nBuy tickets and view the films and schedule on http://unaff.org
URL:https://www.amnestyusa.org/event/united-nations-association-film-festival/
ATTACH;FMTTYPE=image/jpeg:/wp-content/uploads/2021/09/UNAFF2021_300px_X_300px_profile.jpg
END:VEVENT
BEGIN:VEVENT
DTSTART;TZID=America/New_York:20211027T203000
DTEND;TZID=America/New_York:20211027T213000
DTSTAMP:20211013T104016
CREATED:20210518T233453Z
LAST-MODIFIED:20210518T233453Z
UID:73028-1635366600-1635370200@www.amnestyusa.org
SUMMARY:Monthly Membership Call
DESCRIPTION:Each month\, staff from Amnesty International’s Grassroots Leadership and Engagement Unit (GLE) coordinate a Monthly Membership Call. \nThese calls are an opportunity for all Amnesty members to learn about our current priority campaigns\, dialogue with other members and staff\, find out what’s happening at the national and local levels\, and much more! These monthly calls are a space for you – as Amnesty members and member leaders – to communicate\, ask questions and share knowledge with other members\, staff and groups. \nMonthly membership calls are generally held on the last Wednesday of the month and are open to all Amnesty members. Join this call to learn more about Amnesty’s priority actions and activism this month! \n 
URL:https://www.amnestyusa.org/event/monthly-membership-calls-2021-06-30/2021-10-27/
END:VEVENT
BEGIN:VEVENT
DTSTART;TZID=America/New_York:20211116T193000
DTEND;TZID=America/New_York:20211116T213000
DTSTAMP:20211013T104016
CREATED:20210204T164614Z
LAST-MODIFIED:20210204T183153Z
UID:68005-1637091000-1637098200@www.amnestyusa.org
SUMMARY:Local Group 73 (Ithaca\, NY) Monthly Meeting
DESCRIPTION:Local Group 73 (Ithaca\, NY) meets at 7:30pm ET on the third Tuesday of every month. \nWe write letters\, plan actions and events\, and discuss resolutions for the AGM. \nEmail Wayles Browne at ewb2@cornell.edu to get meeting details and a Zoom link.
URL:https://www.amnestyusa.org/event/local-group-73-ithaca-ny-monthly-meeting/2021-11-16/
CATEGORIES:Meeting
ORGANIZER;CN="Wayles%20Browne":MAILTO:ewb2@cornell.edu
END:VEVENT
BEGIN:VEVENT
DTSTART;TZID=America/New_York:20211124T203000
DTEND;TZID=America/New_York:20211124T213000
DTSTAMP:20211013T104016
CREATED:20210518T233453Z
LAST-MODIFIED:20210518T233453Z
UID:73029-1637785800-1637789400@www.amnestyusa.org
SUMMARY:Monthly Membership Call
DESCRIPTION:Each month\, staff from Amnesty International’s Grassroots Leadership and Engagement Unit (GLE) coordinate a Monthly Membership Call. \nThese calls are an opportunity for all Amnesty members to learn about our current priority campaigns\, dialogue with other members and staff\, find out what’s happening at the national and local levels\, and much more! These monthly calls are a space for you – as Amnesty members and member leaders – to communicate\, ask questions and share knowledge with other members\, staff and groups. \nMonthly membership calls are generally held on the last Wednesday of the month and are open to all Amnesty members. Join this call to learn more about Amnesty’s priority actions and activism this month! \n 
URL:https://www.amnestyusa.org/event/monthly-membership-calls-2021-06-30/2021-11-24/
END:VEVENT
BEGIN:VEVENT
DTSTART;TZID=America/New_York:20211221T193000
DTEND;TZID=America/New_York:20211221T213000
DTSTAMP:20211013T104016
CREATED:20210204T164614Z
LAST-MODIFIED:20210204T183155Z
UID:68006-1640115000-1640122200@www.amnestyusa.org
SUMMARY:Local Group 73 (Ithaca\, NY) Monthly Meeting
DESCRIPTION:Local Group 73 (Ithaca\, NY) meets at 7:30pm ET on the third Tuesday of every month. \nWe write letters\, plan actions and events\, and discuss resolutions for the AGM. \nEmail Wayles Browne at ewb2@cornell.edu to get meeting details and a Zoom link.
URL:https://www.amnestyusa.org/event/local-group-73-ithaca-ny-monthly-meeting/2021-12-21/
CATEGORIES:Meeting
ORGANIZER;CN="Wayles%20Browne":MAILTO:ewb2@cornell.edu
END:VEVENT
BEGIN:VEVENT
DTSTART;TZID=America/New_York:20211229T203000
DTEND;TZID=America/New_York:20211229T213000
DTSTAMP:20211013T104016
CREATED:20210518T233453Z
LAST-MODIFIED:20210518T233453Z
UID:73030-1640809800-1640813400@www.amnestyusa.org
SUMMARY:Monthly Membership Call
DESCRIPTION:Each month\, staff from Amnesty International’s Grassroots Leadership and Engagement Unit (GLE) coordinate a Monthly Membership Call. \nThese calls are an opportunity for all Amnesty members to learn about our current priority campaigns\, dialogue with other members and staff\, find out what’s happening at the national and local levels\, and much more! These monthly calls are a space for you – as Amnesty members and member leaders – to communicate\, ask questions and share knowledge with other members\, staff and groups. \nMonthly membership calls are generally held on the last Wednesday of the month and are open to all Amnesty members. Join this call to learn more about Amnesty’s priority actions and activism this month! \n 
URL:https://www.amnestyusa.org/event/monthly-membership-calls-2021-06-30/2021-12-29/
END:VEVENT
BEGIN:VEVENT
DTSTART;TZID=America/New_York:20220126T203000
DTEND;TZID=America/New_York:20220126T213000
DTSTAMP:20211013T104016
CREATED:20210518T233453Z
LAST-MODIFIED:20210518T233453Z
UID:73031-1643229000-1643232600@www.amnestyusa.org
SUMMARY:Monthly Membership Call
DESCRIPTION:Each month\, staff from Amnesty International’s Grassroots Leadership and Engagement Unit (GLE) coordinate a Monthly Membership Call. \nThese calls are an opportunity for all Amnesty members to learn about our current priority campaigns\, dialogue with other members and staff\, find out what’s happening at the national and local levels\, and much more! These monthly calls are a space for you – as Amnesty members and member leaders – to communicate\, ask questions and share knowledge with other members\, staff and groups. \nMonthly membership calls are generally held on the last Wednesday of the month and are open to all Amnesty members. Join this call to learn more about Amnesty’s priority actions and activism this month! \n 
URL:https://www.amnestyusa.org/event/monthly-membership-calls-2021-06-30/2022-01-26/
END:VEVENT
BEGIN:VEVENT
DTSTART;TZID=America/New_York:20220223T203000
DTEND;TZID=America/New_York:20220223T213000
DTSTAMP:20211013T104016
CREATED:20210518T233453Z
LAST-MODIFIED:20210518T233453Z
UID:73032-1645648200-1645651800@www.amnestyusa.org
SUMMARY:Monthly Membership Call
DESCRIPTION:Each month\, staff from Amnesty International’s Grassroots Leadership and Engagement Unit (GLE) coordinate a Monthly Membership Call. \nThese calls are an opportunity for all Amnesty members to learn about our current priority campaigns\, dialogue with other members and staff\, find out what’s happening at the national and local levels\, and much more! These monthly calls are a space for you – as Amnesty members and member leaders – to communicate\, ask questions and share knowledge with other members\, staff and groups. \nMonthly membership calls are generally held on the last Wednesday of the month and are open to all Amnesty members. Join this call to learn more about Amnesty’s priority actions and activism this month! \n 
URL:https://www.amnestyusa.org/event/monthly-membership-calls-2021-06-30/2022-02-23/
END:VEVENT
BEGIN:VEVENT
DTSTART;TZID=America/New_York:20220330T203000
DTEND;TZID=America/New_York:20220330T213000
DTSTAMP:20211013T104016
CREATED:20210518T233453Z
LAST-MODIFIED:20210518T233453Z
UID:73033-1648672200-1648675800@www.amnestyusa.org
SUMMARY:Monthly Membership Call
DESCRIPTION:Each month\, staff from Amnesty International’s Grassroots Leadership and Engagement Unit (GLE) coordinate a Monthly Membership Call. \nThese calls are an opportunity for all Amnesty members to learn about our current priority campaigns\, dialogue with other members and staff\, find out what’s happening at the national and local levels\, and much more! These monthly calls are a space for you – as Amnesty members and member leaders – to communicate\, ask questions and share knowledge with other members\, staff and groups. \nMonthly membership calls are generally held on the last Wednesday of the month and are open to all Amnesty members. Join this call to learn more about Amnesty’s priority actions and activism this month! \n 
URL:https://www.amnestyusa.org/event/monthly-membership-calls-2021-06-30/2022-03-30/
END:VEVENT
BEGIN:VEVENT
DTSTART;TZID=America/New_York:20220427T203000
DTEND;TZID=America/New_York:20220427T213000
DTSTAMP:20211013T104016
CREATED:20210518T233453Z
LAST-MODIFIED:20210518T233453Z
UID:73034-1651091400-1651095000@www.amnestyusa.org
SUMMARY:Monthly Membership Call
DESCRIPTION:Each month\, staff from Amnesty International’s Grassroots Leadership and Engagement Unit (GLE) coordinate a Monthly Membership Call. \nThese calls are an opportunity for all Amnesty members to learn about our current priority campaigns\, dialogue with other members and staff\, find out what’s happening at the national and local levels\, and much more! These monthly calls are a space for you – as Amnesty members and member leaders – to communicate\, ask questions and share knowledge with other members\, staff and groups. \nMonthly membership calls are generally held on the last Wednesday of the month and are open to all Amnesty members. Join this call to learn more about Amnesty’s priority actions and activism this month! \n 
URL:https://www.amnestyusa.org/event/monthly-membership-calls-2021-06-30/2022-04-27/
END:VEVENT
BEGIN:VEVENT
DTSTART;TZID=America/New_York:20220525T203000
DTEND;TZID=America/New_York:20220525T213000
DTSTAMP:20211013T104016
CREATED:20210518T233453Z
LAST-MODIFIED:20210518T233453Z
UID:73035-1653510600-1653514200@www.amnestyusa.org
SUMMARY:Monthly Membership Call
DESCRIPTION:Each month\, staff from Amnesty International’s Grassroots Leadership and Engagement Unit (GLE) coordinate a Monthly Membership Call. \nThese calls are an opportunity for all Amnesty members to learn about our current priority campaigns\, dialogue with other members and staff\, find out what’s happening at the national and local levels\, and much more! These monthly calls are a space for you – as Amnesty members and member leaders – to communicate\, ask questions and share knowledge with other members\, staff and groups. \nMonthly membership calls are generally held on the last Wednesday of the month and are open to all Amnesty members. Join this call to learn more about Amnesty’s priority actions and activism this month! \n 
URL:https://www.amnestyusa.org/event/monthly-membership-calls-2021-06-30/2022-05-25/
END:VEVENT
BEGIN:VEVENT
DTSTART;TZID=America/New_York:20220629T203000
DTEND;TZID=America/New_York:20220629T213000
DTSTAMP:20211013T104016
CREATED:20210518T233453Z
LAST-MODIFIED:20210518T233453Z
UID:73036-1656534600-1656538200@www.amnestyusa.org
SUMMARY:Monthly Membership Call
DESCRIPTION:Each month\, staff from Amnesty International’s Grassroots Leadership and Engagement Unit (GLE) coordinate a Monthly Membership Call. \nThese calls are an opportunity for all Amnesty members to learn about our current priority campaigns\, dialogue with other members and staff\, find out what’s happening at the national and local levels\, and much more! These monthly calls are a space for you – as Amnesty members and member leaders – to communicate\, ask questions and share knowledge with other members\, staff and groups. \nMonthly membership calls are generally held on the last Wednesday of the month and are open to all Amnesty members. Join this call to learn more about Amnesty’s priority actions and activism this month! \n 
URL:https://www.amnestyusa.org/event/monthly-membership-calls-2021-06-30/2022-06-29/
END:VEVENT
BEGIN:VEVENT
DTSTART;TZID=America/New_York:20220727T203000
DTEND;TZID=America/New_York:20220727T213000
DTSTAMP:20211013T104016
CREATED:20210518T233453Z
LAST-MODIFIED:20210518T233453Z
UID:73037-1658953800-1658957400@www.amnestyusa.org
SUMMARY:Monthly Membership Call
DESCRIPTION:Each month\, staff from Amnesty International’s Grassroots Leadership and Engagement Unit (GLE) coordinate a Monthly Membership Call. \nThese calls are an opportunity for all Amnesty members to learn about our current priority campaigns\, dialogue with other members and staff\, find out what’s happening at the national and local levels\, and much more! These monthly calls are a space for you – as Amnesty members and member leaders – to communicate\, ask questions and share knowledge with other members\, staff and groups. \nMonthly membership calls are generally held on the last Wednesday of the month and are open to all Amnesty members. Join this call to learn more about Amnesty’s priority actions and activism this month! \n 
URL:https://www.amnestyusa.org/event/monthly-membership-calls-2021-06-30/2022-07-27/
END:VEVENT
BEGIN:VEVENT
DTSTART;TZID=America/New_York:20220831T203000
DTEND;TZID=America/New_York:20220831T213000
DTSTAMP:20211013T104016
CREATED:20210518T233453Z
LAST-MODIFIED:20210518T233453Z
UID:73264-1661977800-1661981400@www.amnestyusa.org
SUMMARY:Monthly Membership Call
DESCRIPTION:Each month\, staff from Amnesty International’s Grassroots Leadership and Engagement Unit (GLE) coordinate a Monthly Membership Call. \nThese calls are an opportunity for all Amnesty members to learn about our current priority campaigns\, dialogue with other members and staff\, find out what’s happening at the national and local levels\, and much more! These monthly calls are a space for you – as Amnesty members and member leaders – to communicate\, ask questions and share knowledge with other members\, staff and groups. \nMonthly membership calls are generally held on the last Wednesday of the month and are open to all Amnesty members. Join this call to learn more about Amnesty’s priority actions and activism this month! \n 
URL:https://www.amnestyusa.org/event/monthly-membership-calls-2021-06-30/2022-08-31/
END:VEVENT
END:VCALENDAR